Workbook

Sheet LAMPIRAN AK PRESTASI
A1: Daftar Karil untuk AK Prestasi
B3: Nama | C3: Rifki Rokhanudin
B4: Jabatan | C4: Lektor Kepala
B5: TMT Jabatan | C5: 44927
B6: Batasan Rentang Waktu Karil | C6: ="Dari "&TEXT(DATE(YEAR(C5),MONTH(C5)-6,DAY(C5)),"d mmmm yyyy")&" Hingga hari ini" -> Dari 1 Juli 2022 Hingga hari ini
A8: No | B8: Judul | C8: Kategori - Sub Kategori | D8: Tanggal Terbit | E8: Tahun Terbit | F8: Jumlah Penulis | G8: Status Penulis | H8: AK Karya Maksimal | I8: AK Individu Maksimal
A9: 1 | B9: Building a sustainable future for Indonesia's new capital, the Nusantara capital city (IKN) | C9: Hasil penelitian yang dipublikasikan dalam bentuk buku - Buku Referensi (40) | D9: 1 Juni 2026 | E9: 2026 | F9: 11 | G9: Penulis Anggota (Penulis Pertama tidak sebagai Korespondensi) | H9: =_xlfn.IFNA(VLOOKUP(C9,'GLOSARY AK PRESTASI'!$F$3:$G$38,2,0),"") -> 40 | I9: =IF(B9="", "", _xlfn.IFNA(IF(F9=2, VLOOKUP(G9, 'GLOSARY AK PRESTASI'!$J$9:$K$12, 2, 0)*H9, IF(VLOOKUP(G9, 'GLOSARY AK PRESTASI'!$J$3:$L$8,3,0)=1, VLOOKUP(G9,'GLOSARY AK PRESTASI'!$J$3:$L$8,2,0)*H9, IF(VLOOKUP(G9,'GLOSARY AK PRESTASI'!$J$3:$L$8,3,0)=2, VLOOKUP(G9,'GLOSARY AK PRESTASI'!$J$3:$L$8, 2, 0)*H9/(F9-1), VLOOKUP(G9, 'GLOSARY AK PRESTASI'!$J$3:$L$8, 2, 0)*H9/(F9-2)))), "Ubah Status Penulis")) -> 0.88888889 | K9: =0.2*H9/9 -> 0.88888889
A10: 2 | H10: =_xlfn.IFNA(VLOOKUP(C10,'GLOSARY AK PRESTASI'!$F$3:$G$38,2,0),"") | I10: =IF(B10="", "", _xlfn.IFNA(IF(F10=2, VLOOKUP(G10, 'GLOSARY AK PRESTASI'!$J$9:$K$12, 2, 0)*H10, IF(VLOOKUP(G10, 'GLOSARY AK PRESTASI'!$J$3:$L$8,3,0)=1, VLOOKUP(G10,'GLOSARY AK PRESTASI'!$J$3:$L$8,2,0)*H10, IF(VLOOKUP(G10,'GLOSARY AK PRESTASI'!$J$3:$L$8,3,0)=2, VLOOKUP(G10,'GLOSARY AK PRESTASI'!$J$3:$L$8, 2, 0)*H10/(F10-1), VLOOKUP(G10, 'GLOSARY AK PRESTASI'!$J$3:$L$8, 2, 0)*H10/(F10-2)))), "Ubah Status Penulis"))
A11: 3 | H11: =_xlfn.IFNA(VLOOKUP(C11,'GLOSARY AK PRESTASI'!$F$3:$G$38,2,0),"") | I11: =IF(B11="", "", _xlfn.IFNA(IF(F11=2, VLOOKUP(G11, 'GLOSARY AK PRESTASI'!$J$9:$K$12, 2, 0)*H11, IF(VLOOKUP(G11, 'GLOSARY AK PRESTASI'!$J$3:$L$8,3,0)=1, VLOOKUP(G11,'GLOSARY AK PRESTASI'!$J$3:$L$8,2,0)*H11, IF(VLOOKUP(G11,'GLOSARY AK PRESTASI'!$J$3:$L$8,3,0)=2, VLOOKUP(G11,'GLOSARY AK PRESTASI'!$J$3:$L$8, 2, 0)*H11/(F11-1), VLOOKUP(G11, 'GLOSARY AK PRESTASI'!$J$3:$L$8, 2, 0)*H11/(F11-2)))), "Ubah Status Penulis"))
A12: 4 | H12: =_xlfn.IFNA(VLOOKUP(C12,'GLOSARY AK PRESTASI'!$F$3:$G$38,2,0),"") | I12: =IF(B12="", "", _xlfn.IFNA(IF(F12=2, VLOOKUP(G12, 'GLOSARY AK PRESTASI'!$J$9:$K$12, 2, 0)*H12, IF(VLOOKUP(G12, 'GLOSARY AK PRESTASI'!$J$3:$L$8,3,0)=1, VLOOKUP(G12,'GLOSARY AK PRESTASI'!$J$3:$L$8,2,0)*H12, IF(VLOOKUP(G12,'GLOSARY AK PRESTASI'!$J$3:$L$8,3,0)=2, VLOOKUP(G12,'GLOSARY AK PRESTASI'!$J$3:$L$8, 2, 0)*H12/(F12-1), VLOOKUP(G12, 'GLOSARY AK PRESTASI'!$J$3:$L$8, 2, 0)*H12/(F12-2)))), "Ubah Status Penulis"))
A13: 5 | H13: =_xlfn.IFNA(VLOOKUP(C13,'GLOSARY AK PRESTASI'!$F$3:$G$38,2,0),"") | I13: =IF(B13="", "", _xlfn.IFNA(IF(F13=2, VLOOKUP(G13, 'GLOSARY AK PRESTASI'!$J$9:$K$12, 2, 0)*H13, IF(VLOOKUP(G13, 'GLOSARY AK PRESTASI'!$J$3:$L$8,3,0)=1, VLOOKUP(G13,'GLOSARY AK PRESTASI'!$J$3:$L$8,2,0)*H13, IF(VLOOKUP(G13,'GLOSARY AK PRESTASI'!$J$3:$L$8,3,0)=2, VLOOKUP(G13,'GLOSARY AK PRESTASI'!$J$3:$L$8, 2, 0)*H13/(F13-1), VLOOKUP(G13, 'GLOSARY AK PRESTASI'!$J$3:$L$8, 2, 0)*H13/(F13-2)))), "Ubah Status Penulis"))
A14: 6 | H14: =_xlfn.IFNA(VLOOKUP(C14,'GLOSARY AK PRESTASI'!$F$3:$G$38,2,0),"") | I14: =IF(B14="", "", _xlfn.IFNA(IF(F14=2, VLOOKUP(G14, 'GLOSARY AK PRESTASI'!$J$9:$K$12, 2, 0)*H14, IF(VLOOKUP(G14, 'GLOSARY AK PRESTASI'!$J$3:$L$8,3,0)=1, VLOOKUP(G14,'GLOSARY AK PRESTASI'!$J$3:$L$8,2,0)*H14, IF(VLOOKUP(G14,'GLOSARY AK PRESTASI'!$J$3:$L$8,3,0)=2, VLOOKUP(G14,'GLOSARY AK PRESTASI'!$J$3:$L$8, 2, 0)*H14/(F14-1), VLOOKUP(G14, 'GLOSARY AK PRESTASI'!$J$3:$L$8, 2, 0)*H14/(F14-2)))), "Ubah Status Penulis"))
A15: 7 | H15: =_xlfn.IFNA(VLOOKUP(C15,'GLOSARY AK PRESTASI'!$F$3:$G$38,2,0),"") | I15: =IF(B15="", "", _xlfn.IFNA(IF(F15=2, VLOOKUP(G15, 'GLOSARY AK PRESTASI'!$J$9:$K$12, 2, 0)*H15, IF(VLOOKUP(G15, 'GLOSARY AK PRESTASI'!$J$3:$L$8,3,0)=1, VLOOKUP(G15,'GLOSARY AK PRESTASI'!$J$3:$L$8,2,0)*H15, IF(VLOOKUP(G15,'GLOSARY AK PRESTASI'!$J$3:$L$8,3,0)=2, VLOOKUP(G15,'GLOSARY AK PRESTASI'!$J$3:$L$8, 2, 0)*H15/(F15-1), VLOOKUP(G15, 'GLOSARY AK PRESTASI'!$J$3:$L$8, 2, 0)*H15/(F15-2)))), "Ubah Status Penulis"))
A16: 8 | H16: =_xlfn.IFNA(VLOOKUP(C16,'GLOSARY AK PRESTASI'!$F$3:$G$38,2,0),"") | I16: =IF(B16="", "", _xlfn.IFNA(IF(F16=2, VLOOKUP(G16, 'GLOSARY AK PRESTASI'!$J$9:$K$12, 2, 0)*H16, IF(VLOOKUP(G16, 'GLOSARY AK PRESTASI'!$J$3:$L$8,3,0)=1, VLOOKUP(G16,'GLOSARY AK PRESTASI'!$J$3:$L$8,2,0)*H16, IF(VLOOKUP(G16,'GLOSARY AK PRESTASI'!$J$3:$L$8,3,0)=2, VLOOKUP(G16,'GLOSARY AK PRESTASI'!$J$3:$L$8, 2, 0)*H16/(F16-1), VLOOKUP(G16, 'GLOSARY AK PRESTASI'!$J$3:$L$8, 2, 0)*H16/(F16-2)))), "Ubah Status Penulis"))
A17: 9 | H17: =_xlfn.IFNA(VLOOKUP(C17,'GLOSARY AK PRESTASI'!$F$3:$G$38,2,0),"") | I17: =IF(B17="", "", _xlfn.IFNA(IF(F17=2, VLOOKUP(G17, 'GLOSARY AK PRESTASI'!$J$9:$K$12, 2, 0)*H17, IF(VLOOKUP(G17, 'GLOSARY AK PRESTASI'!$J$3:$L$8,3,0)=1, VLOOKUP(G17,'GLOSARY AK PRESTASI'!$J$3:$L$8,2,0)*H17, IF(VLOOKUP(G17,'GLOSARY AK PRESTASI'!$J$3:$L$8,3,0)=2, VLOOKUP(G17,'GLOSARY AK PRESTASI'!$J$3:$L$8, 2, 0)*H17/(F17-1), VLOOKUP(G17, 'GLOSARY AK PRESTASI'!$J$3:$L$8, 2, 0)*H17/(F17-2)))), "Ubah Status Penulis"))
A18: 10 | H18: =_xlfn.IFNA(VLOOKUP(C18,'GLOSARY AK PRESTASI'!$F$3:$G$38,2,0),"") | I18: =IF(B18="", "", _xlfn.IFNA(IF(F18=2, VLOOKUP(G18, 'GLOSARY AK PRESTASI'!$J$9:$K$12, 2, 0)*H18, IF(VLOOKUP(G18, 'GLOSARY AK PRESTASI'!$J$3:$L$8,3,0)=1, VLOOKUP(G18,'GLOSARY AK PRESTASI'!$J$3:$L$8,2,0)*H18, IF(VLOOKUP(G18,'GLOSARY AK PRESTASI'!$J$3:$L$8,3,0)=2, VLOOKUP(G18,'GLOSARY AK PRESTASI'!$J$3:$L$8, 2, 0)*H18/(F18-1), VLOOKUP(G18, 'GLOSARY AK PRESTASI'!$J$3:$L$8, 2, 0)*H18/(F18-2)))), "Ubah Status Penulis"))
A19: 11 | H19: =_xlfn.IFNA(VLOOKUP(C19,'GLOSARY AK PRESTASI'!$F$3:$G$38,2,0),"") | I19: =IF(B19="", "", _xlfn.IFNA(IF(F19=2, VLOOKUP(G19, 'GLOSARY AK PRESTASI'!$J$9:$K$12, 2, 0)*H19, IF(VLOOKUP(G19, 'GLOSARY AK PRESTASI'!$J$3:$L$8,3,0)=1, VLOOKUP(G19,'GLOSARY AK PRESTASI'!$J$3:$L$8,2,0)*H19, IF(VLOOKUP(G19,'GLOSARY AK PRESTASI'!$J$3:$L$8,3,0)=2, VLOOKUP(G19,'GLOSARY AK PRESTASI'!$J$3:$L$8, 2, 0)*H19/(F19-1), VLOOKUP(G19, 'GLOSARY AK PRESTASI'!$J$3:$L$8, 2, 0)*H19/(F19-2)))), "Ubah Status Penulis"))
A20: 12 | H20: =_xlfn.IFNA(VLOOKUP(C20,'GLOSARY AK PRESTASI'!$F$3:$G$38,2,0),"") | I20: =IF(B20="", "", _xlfn.IFNA(IF(F20=2, VLOOKUP(G20, 'GLOSARY AK PRESTASI'!$J$9:$K$12, 2, 0)*H20, IF(VLOOKUP(G20, 'GLOSARY AK PRESTASI'!$J$3:$L$8,3,0)=1, VLOOKUP(G20,'GLOSARY AK PRESTASI'!$J$3:$L$8,2,0)*H20, IF(VLOOKUP(G20,'GLOSARY AK PRESTASI'!$J$3:$L$8,3,0)=2, VLOOKUP(G20,'GLOSARY AK PRESTASI'!$J$3:$L$8, 2, 0)*H20/(F20-1), VLOOKUP(G20, 'GLOSARY AK PRESTASI'!$J$3:$L$8, 2, 0)*H20/(F20-2)))), "Ubah Status Penulis"))
A21: 13 | H21: =_xlfn.IFNA(VLOOKUP(C21,'GLOSARY AK PRESTASI'!$F$3:$G$38,2,0),"") | I21: =IF(B21="", "", _xlfn.IFNA(IF(F21=2, VLOOKUP(G21, 'GLOSARY AK PRESTASI'!$J$9:$K$12, 2, 0)*H21, IF(VLOOKUP(G21, 'GLOSARY AK PRESTASI'!$J$3:$L$8,3,0)=1, VLOOKUP(G21,'GLOSARY AK PRESTASI'!$J$3:$L$8,2,0)*H21, IF(VLOOKUP(G21,'GLOSARY AK PRESTASI'!$J$3:$L$8,3,0)=2, VLOOKUP(G21,'GLOSARY AK PRESTASI'!$J$3:$L$8, 2, 0)*H21/(F21-1), VLOOKUP(G21, 'GLOSARY AK PRESTASI'!$J$3:$L$8, 2, 0)*H21/(F21-2)))), "Ubah Status Penulis"))
... A58: 50 | H58: =_xlfn.IFNA(VLOOKUP(C58,'GLOSARY AK PRESTASI'!$F$3:$G$38,2,0),"") | I58: =IF(B58="", "", _xlfn.IFNA(IF(F58=2, VLOOKUP(G58, 'GLOSARY AK PRESTASI'!$J$9:$K$12, 2, 0)*H58, IF(VLOOKUP(G58, 'GLOSARY AK PRESTASI'!$J$3:$L$8,3,0)=1, VLOOKUP(G58,'GLOSARY AK PRESTASI'!$J$3:$L$8,2,0)*H58, IF(VLOOKUP(G58,'GLOSARY AK PRESTASI'!$J$3:$L$8,3,0)=2, VLOOKUP(G58,'GLOSARY AK PRESTASI'!$J$3:$L$8, 2, 0)*H58/(F58-1), VLOOKUP(G58, 'GLOSARY AK PRESTASI'!$J$3:$L$8, 2, 0)*H58/(F58-2)))), "Ubah Status Penulis"))
A59: 51 | H59: =_xlfn.IFNA(VLOOKUP(C59,'GLOSARY AK PRESTASI'!$F$3:$G$38,2,0),"") | I59: =IF(B59="", "", _xlfn.IFNA(IF(F59=2, VLOOKUP(G59, 'GLOSARY AK PRESTASI'!$J$9:$K$12, 2, 0)*H59, IF(VLOOKUP(G59, 'GLOSARY AK PRESTASI'!$J$3:$L$8,3,0)=1, VLOOKUP(G59,'GLOSARY AK PRESTASI'!$J$3:$L$8,2,0)*H59, IF(VLOOKUP(G59,'GLOSARY AK PRESTASI'!$J$3:$L$8,3,0)=2, VLOOKUP(G59,'GLOSARY AK PRESTASI'!$J$3:$L$8, 2, 0)*H59/(F59-1), VLOOKUP(G59, 'GLOSARY AK PRESTASI'!$J$3:$L$8, 2, 0)*H59/(F59-2)))), "Ubah Status Penulis")) | K59: =0.2*H59/9 -> #VALUE!
A60: 52 | H60: =_xlfn.IFNA(VLOOKUP(C60,'GLOSARY AK PRESTASI'!$F$3:$G$38,2,0),"") | I60: =IF(B60="", "", _xlfn.IFNA(IF(F60=2, VLOOKUP(G60, 'GLOSARY AK PRESTASI'!$J$9:$K$12, 2, 0)*H60, IF(VLOOKUP(G60, 'GLOSARY AK PRESTASI'!$J$3:$L$8,3,0)=1, VLOOKUP(G60,'GLOSARY AK PRESTASI'!$J$3:$L$8,2,0)*H60, IF(VLOOKUP(G60,'GLOSARY AK PRESTASI'!$J$3:$L$8,3,0)=2, VLOOKUP(G60,'GLOSARY AK PRESTASI'!$J$3:$L$8, 2, 0)*H60/(F60-1), VLOOKUP(G60, 'GLOSARY AK PRESTASI'!$J$3:$L$8, 2, 0)*H60/(F60-2)))), "Ubah Status Penulis"))
A61: 53 | H61: =_xlfn.IFNA(VLOOKUP(C61,'GLOSARY AK PRESTASI'!$F$3:$G$38,2,0),"") | I61: =IF(B61="", "", _xlfn.IFNA(IF(F61=2, VLOOKUP(G61, 'GLOSARY AK PRESTASI'!$J$9:$K$12, 2, 0)*H61, IF(VLOOKUP(G61, 'GLOSARY AK PRESTASI'!$J$3:$L$8,3,0)=1, VLOOKUP(G61,'GLOSARY AK PRESTASI'!$J$3:$L$8,2,0)*H61, IF(VLOOKUP(G61,'GLOSARY AK PRESTASI'!$J$3:$L$8,3,0)=2, VLOOKUP(G61,'GLOSARY AK PRESTASI'!$J$3:$L$8, 2, 0)*H61/(F61-1), VLOOKUP(G61, 'GLOSARY AK PRESTASI'!$J$3:$L$8, 2, 0)*H61/(F61-2)))), "Ubah Status Penulis"))
A62: 54 | H62: =_xlfn.IFNA(VLOOKUP(C62,'GLOSARY AK PRESTASI'!$F$3:$G$38,2,0),"") | I62: =IF(B62="", "", _xlfn.IFNA(IF(F62=2, VLOOKUP(G62, 'GLOSARY AK PRESTASI'!$J$9:$K$12, 2, 0)*H62, IF(VLOOKUP(G62, 'GLOSARY AK PRESTASI'!$J$3:$L$8,3,0)=1, VLOOKUP(G62,'GLOSARY AK PRESTASI'!$J$3:$L$8,2,0)*H62, IF(VLOOKUP(G62,'GLOSARY AK PRESTASI'!$J$3:$L$8,3,0)=2, VLOOKUP(G62,'GLOSARY AK PRESTASI'!$J$3:$L$8, 2, 0)*H62/(F62-1), VLOOKUP(G62, 'GLOSARY AK PRESTASI'!$J$3:$L$8, 2, 0)*H62/(F62-2)))), "Ubah Status Penulis"))
A63: 55 | H63: =_xlfn.IFNA(VLOOKUP(C63,'GLOSARY AK PRESTASI'!$F$3:$G$38,2,0),"") | I63: =IF(B63="", "", _xlfn.IFNA(IF(F63=2, VLOOKUP(G63, 'GLOSARY AK PRESTASI'!$J$9:$K$12, 2, 0)*H63, IF(VLOOKUP(G63, 'GLOSARY AK PRESTASI'!$J$3:$L$8,3,0)=1, VLOOKUP(G63,'GLOSARY AK PRESTASI'!$J$3:$L$8,2,0)*H63, IF(VLOOKUP(G63,'GLOSARY AK PRESTASI'!$J$3:$L$8,3,0)=2, VLOOKUP(G63,'GLOSARY AK PRESTASI'!$J$3:$L$8, 2, 0)*H63/(F63-1), VLOOKUP(G63, 'GLOSARY AK PRESTASI'!$J$3:$L$8, 2, 0)*H63/(F63-2)))), "Ubah Status Penulis"))
A64: 56 | H64: =_xlfn.IFNA(VLOOKUP(C64,'GLOSARY AK PRESTASI'!$F$3:$G$38,2,0),"") | I64: =IF(B64="", "", _xlfn.IFNA(IF(F64=2, VLOOKUP(G64, 'GLOSARY AK PRESTASI'!$J$9:$K$12, 2, 0)*H64, IF(VLOOKUP(G64, 'GLOSARY AK PRESTASI'!$J$3:$L$8,3,0)=1, VLOOKUP(G64,'GLOSARY AK PRESTASI'!$J$3:$L$8,2,0)*H64, IF(VLOOKUP(G64,'GLOSARY AK PRESTASI'!$J$3:$L$8,3,0)=2, VLOOKUP(G64,'GLOSARY AK PRESTASI'!$J$3:$L$8, 2, 0)*H64/(F64-1), VLOOKUP(G64, 'GLOSARY AK PRESTASI'!$J$3:$L$8, 2, 0)*H64/(F64-2)))), "Ubah Status Penulis"))
A65: 57 | H65: =_xlfn.IFNA(VLOOKUP(C65,'GLOSARY AK PRESTASI'!$F$3:$G$38,2,0),"") | I65: =IF(B65="", "", _xlfn.IFNA(IF(F65=2, VLOOKUP(G65, 'GLOSARY AK PRESTASI'!$J$9:$K$12, 2, 0)*H65, IF(VLOOKUP(G65, 'GLOSARY AK PRESTASI'!$J$3:$L$8,3,0)=1, VLOOKUP(G65,'GLOSARY AK PRESTASI'!$J$3:$L$8,2,0)*H65, IF(VLOOKUP(G65,'GLOSARY AK PRESTASI'!$J$3:$L$8,3,0)=2, VLOOKUP(G65,'GLOSARY AK PRESTASI'!$J$3:$L$8, 2, 0)*H65/(F65-1), VLOOKUP(G65, 'GLOSARY AK PRESTASI'!$J$3:$L$8, 2, 0)*H65/(F65-2)))), "Ubah Status Penulis"))
A66: 58 | H66: =_xlfn.IFNA(VLOOKUP(C66,'GLOSARY AK PRESTASI'!$F$3:$G$38,2,0),"") | I66: =IF(B66="", "", _xlfn.IFNA(IF(F66=2, VLOOKUP(G66, 'GLOSARY AK PRESTASI'!$J$9:$K$12, 2, 0)*H66, IF(VLOOKUP(G66, 'GLOSARY AK PRESTASI'!$J$3:$L$8,3,0)=1, VLOOKUP(G66,'GLOSARY AK PRESTASI'!$J$3:$L$8,2,0)*H66, IF(VLOOKUP(G66,'GLOSARY AK PRESTASI'!$J$3:$L$8,3,0)=2, VLOOKUP(G66,'GLOSARY AK PRESTASI'!$J$3:$L$8, 2, 0)*H66/(F66-1), VLOOKUP(G66, 'GLOSARY AK PRESTASI'!$J$3:$L$8, 2, 0)*H66/(F66-2)))), "Ubah Status Penulis"))
A67: 59 | H67: =_xlfn.IFNA(VLOOKUP(C67,'GLOSARY AK PRESTASI'!$F$3:$G$38,2,0),"") | I67: =IF(B67="", "", _xlfn.IFNA(IF(F67=2, VLOOKUP(G67, 'GLOSARY AK PRESTASI'!$J$9:$K$12, 2, 0)*H67, IF(VLOOKUP(G67, 'GLOSARY AK PRESTASI'!$J$3:$L$8,3,0)=1, VLOOKUP(G67,'GLOSARY AK PRESTASI'!$J$3:$L$8,2,0)*H67, IF(VLOOKUP(G67,'GLOSARY AK PRESTASI'!$J$3:$L$8,3,0)=2, VLOOKUP(G67,'GLOSARY AK PRESTASI'!$J$3:$L$8, 2, 0)*H67/(F67-1), VLOOKUP(G67, 'GLOSARY AK PRESTASI'!$J$3:$L$8, 2, 0)*H67/(F67-2)))), "Ubah Status Penulis"))
A68: 60 | H68: =_xlfn.IFNA(VLOOKUP(C68,'GLOSARY AK PRESTASI'!$F$3:$G$38,2,0),"") | I68: =IF(B68="", "", _xlfn.IFNA(IF(F68=2, VLOOKUP(G68, 'GLOSARY AK PRESTASI'!$J$9:$K$12, 2, 0)*H68, IF(VLOOKUP(G68, 'GLOSARY AK PRESTASI'!$J$3:$L$8,3,0)=1, VLOOKUP(G68,'GLOSARY AK PRESTASI'!$J$3:$L$8,2,0)*H68, IF(VLOOKUP(G68,'GLOSARY AK PRESTASI'!$J$3:$L$8,3,0)=2, VLOOKUP(G68,'GLOSARY AK PRESTASI'!$J$3:$L$8, 2, 0)*H68/(F68-1), VLOOKUP(G68, 'GLOSARY AK PRESTASI'!$J$3:$L$8, 2, 0)*H68/(F68-2)))), "Ubah Status Penulis"))
A69: 61 | H69: =_xlfn.IFNA(VLOOKUP(C69,'GLOSARY AK PRESTASI'!$F$3:$G$38,2,0),"") | I69: =IF(B69="", "", _xlfn.IFNA(IF(F69=2, VLOOKUP(G69, 'GLOSARY AK PRESTASI'!$J$9:$K$12, 2, 0)*H69, IF(VLOOKUP(G69, 'GLOSARY AK PRESTASI'!$J$3:$L$8,3,0)=1, VLOOKUP(G69,'GLOSARY AK PRESTASI'!$J$3:$L$8,2,0)*H69, IF(VLOOKUP(G69,'GLOSARY AK PRESTASI'!$J$3:$L$8,3,0)=2, VLOOKUP(G69,'GLOSARY AK PRESTASI'!$J$3:$L$8, 2, 0)*H69/(F69-1), VLOOKUP(G69, 'GLOSARY AK PRESTASI'!$J$3:$L$8, 2, 0)*H69/(F69-2)))), "Ubah Status Penulis"))
A70: 62 | H70: =_xlfn.IFNA(VLOOKUP(C70,'GLOSARY AK PRESTASI'!$F$3:$G$38,2,0),"") | I70: =IF(B70="", "", _xlfn.IFNA(IF(F70=2, VLOOKUP(G70, 'GLOSARY AK PRESTASI'!$J$9:$K$12, 2, 0)*H70, IF(VLOOKUP(G70, 'GLOSARY AK PRESTASI'!$J$3:$L$8,3,0)=1, VLOOKUP(G70,'GLOSARY AK PRESTASI'!$J$3:$L$8,2,0)*H70, IF(VLOOKUP(G70,'GLOSARY AK PRESTASI'!$J$3:$L$8,3,0)=2, VLOOKUP(G70,'GLOSARY AK PRESTASI'!$J$3:$L$8, 2, 0)*H70/(F70-1), VLOOKUP(G70, 'GLOSARY AK PRESTASI'!$J$3:$L$8, 2, 0)*H70/(F70-2)))), "Ubah Status Penulis"))
A71: 63 | H71: =_xlfn.IFNA(VLOOKUP(C71,'GLOSARY AK PRESTASI'!$F$3:$G$38,2,0),"") | I71: =IF(B71="", "", _xlfn.IFNA(IF(F71=2, VLOOKUP(G71, 'GLOSARY AK PRESTASI'!$J$9:$K$12, 2, 0)*H71, IF(VLOOKUP(G71, 'GLOSARY AK PRESTASI'!$J$3:$L$8,3,0)=1, VLOOKUP(G71,'GLOSARY AK PRESTASI'!$J$3:$L$8,2,0)*H71, IF(VLOOKUP(G71,'GLOSARY AK PRESTASI'!$J$3:$L$8,3,0)=2, VLOOKUP(G71,'GLOSARY AK PRESTASI'!$J$3:$L$8, 2, 0)*H71/(F71-1), VLOOKUP(G71, 'GLOSARY AK PRESTASI'!$J$3:$L$8, 2, 0)*H71/(F71-2)))), "Ubah Status Penulis"))
... A108: 100 | H108: =_xlfn.IFNA(VLOOKUP(C108,'GLOSARY AK PRESTASI'!$F$3:$G$38,2,0),"") | I108: =IF(B108="", "", _xlfn.IFNA(IF(F108=2, VLOOKUP(G108, 'GLOSARY AK PRESTASI'!$J$9:$K$12, 2, 0)*H108, IF(VLOOKUP(G108, 'GLOSARY AK PRESTASI'!$J$3:$L$8,3,0)=1, VLOOKUP(G108,'GLOSARY AK PRESTASI'!$J$3:$L$8,2,0)*H108, IF(VLOOKUP(G108,'GLOSARY AK PRESTASI'!$J$3:$L$8,3,0)=2, VLOOKUP(G108,'GLOSARY AK PRESTASI'!$J$3:$L$8, 2, 0)*H108/(F108-1), VLOOKUP(G108, 'GLOSARY AK PRESTASI'!$J$3:$L$8, 2, 0)*H108/(F108-2)))), "Ubah Status Penulis"))
B110: Tahun | C110: AK Diajukan (Masukkan ke calcjad)
B111: Sebelum 2023 | C111: =SUMIFS('LAMPIRAN AK PRESTASI'!$I$9:$I$108,'LAMPIRAN AK PRESTASI'!$E$9:$E$108,"<>2023",'LAMPIRAN AK PRESTASI'!$E$9:$E$108,"<>2024",'LAMPIRAN AK PRESTASI'!$E$9:$E$108,"<>2025",'LAMPIRAN AK PRESTASI'!$E$9:$E$108,"<>2026",'LAMPIRAN AK PRESTASI'!$E$9:$E$108,"<>") -> 0
B112: 2023 | C112: =SUMIF('LAMPIRAN AK PRESTASI'!$E$9:$E$108,B112,'LAMPIRAN AK PRESTASI'!$I$9:$I$108) -> 0
B113: 2024 | C113: =SUMIF('LAMPIRAN AK PRESTASI'!$E$9:$E$58,2024,'LAMPIRAN AK PRESTASI'!$I$9:$I$58) -> 0
B114: 2025 | C114: =SUMIF('LAMPIRAN AK PRESTASI'!$E$9:$E$58,2025,'LAMPIRAN AK PRESTASI'!$I$9:$I$58) -> 0
B115: 2026 | C115: =SUMIF('LAMPIRAN AK PRESTASI'!$E$9:$E$58,2026,'LAMPIRAN AK PRESTASI'!$I$9:$I$58) -> 0.88888889
...

Sheet GLOSARY AK PRESTASI
B2: KATEGORI | C2: BANTU KATEGORI | D2: SUB KATEGORI | E2: NILAI MAKS SUB KATEGORI | F2: KATEGORI - SUB KATEGORI | G2: NILAI MAKS SUB KATEGORI | J2: STATUS PENULIS | K2: PRESENTASE NILAI | N2: Jabatan
B3: Hasil penelitian yang dipublikasikan dalam bentuk buku | C3: =SUBSTITUTE(B3, " ", "_") -> Hasil_penelitian_yang_dipublikasikan_dalam_bentuk_buku | D3: Buku Referensi | E3: 40 | F3: =B3&" - "&D3&" ("&E3&")" -> Hasil penelitian yang dipublikasikan dalam bentuk buku - Buku Referensi (40) | G3: 40 | J3: Penulis Pertama juga sebagai Korespondensi | K3: 0.6 | L3: 1 | N3: Asisten Ahli
B4: Hasil penelitian yang dipublikasikan dalam bentuk buku | C4: =SUBSTITUTE(B4, " ", "_") -> Hasil_penelitian_yang_dipublikasikan_dalam_bentuk_buku | D4: Monograf | E4: 40 | F4: =B4&" - "&D4&" ("&E4&")" -> Hasil penelitian yang dipublikasikan dalam bentuk buku - Monograf (40) | G4: 40 | J4: Penulis Pertama | K4: 0.4 | L4: 1 | N4: Lektor
B5: Hasil penelitian dalam buku yang dipublikasikan dan berisi berbagai tulisan dari berbagai penulis book chapter | C5: =SUBSTITUTE(B5, " ", "_") -> Hasil_penelitian_dalam_buku_yang_dipublikasikan_dan_berisi_berbagai_tulisan_dari_berbagai_penulis_book_chapter | D5: Internasional | E5: 15 | F5: =B5&" - "&D5&" ("&E5&")" -> Hasil penelitian dalam buku yang dipublikasikan dan berisi berbagai tulisan dari berbagai penulis book chapter - Internasional (15) | G5: 15 | J5: Penulis Korespondensi | K5: 0.4 | L5: 1 | N5: Lektor Kepala
B6: Hasil penelitian dalam buku yang dipublikasikan dan berisi berbagai tulisan dari berbagai penulis book chapter | C6: =SUBSTITUTE(B6, " ", "_") -> Hasil_penelitian_dalam_buku_yang_dipublikasikan_dan_berisi_berbagai_tulisan_dari_berbagai_penulis_book_chapter | D6: Nasional | E6: 15 | F6: =B6&" - "&D6&" ("&E6&")" -> Hasil penelitian dalam buku yang dipublikasikan dan berisi berbagai tulisan dari berbagai penulis book chapter - Nasional (15) | G6: 15 | J6: Penulis Anggota (Penulis Pertama juga sebagai Korespondensi) | K6: =40% -> 0.4 | L6: 2 | N6: Guru Besar
B7: Hasil penelitian yang dipublikasikan dalam bentuk jurnal | C7: =SUBSTITUTE(B7, " ", "_") -> Hasil_penelitian_yang_dipublikasikan_dalam_bentuk_jurnal | D7: Jurnal Internasional Bereputasi Q1 | E7: 40 | F7: =B7&" - "&D7&" ("&E7&")" -> Hasil penelitian yang dipublikasikan dalam bentuk jurnal - Jurnal Internasional Bereputasi Q1 (40) | G7: 40 | J7: Penulis Anggota (Penulis Pertama tidak sebagai Korespondensi) | K7: =20% -> 0.2 | L7: 3
B8: Hasil penelitian yang dipublikasikan dalam bentuk jurnal | C8: =SUBSTITUTE(B8, " ", "_") -> Hasil_penelitian_yang_dipublikasikan_dalam_bentuk_jurnal | D8: Jurnal Internasional Bereputasi Q2 | E8: 38 | F8: =B8&" - "&D8&" ("&E8&")" -> Hasil penelitian yang dipublikasikan dalam bentuk jurnal - Jurnal Internasional Bereputasi Q2 (38) | G8: 38 | J8: Penulis Tunggal | K8: 0.6 | L8: 1
B9: Hasil penelitian yang dipublikasikan dalam bentuk jurnal | C9: =SUBSTITUTE(B9, " ", "_") -> Hasil_penelitian_yang_dipublikasikan_dalam_bentuk_jurnal | D9: Jurnal Internasional Bereputasi Q3 | E9: 35 | F9: =B9&" - "&D9&" ("&E9&")" -> Hasil penelitian yang dipublikasikan dalam bentuk jurnal - Jurnal Internasional Bereputasi Q3 (35) | G9: 35 | J9: Penulis Pertama | K9: 0.5 | L9: 1
B10: Hasil penelitian yang dipublikasikan dalam bentuk jurnal | C10: =SUBSTITUTE(B10, " ", "_") -> Hasil_penelitian_yang_dipublikasikan_dalam_bentuk_jurnal | D10: Jurnal Internasional Bereputasi Q4 | E10: 33 | F10: =B10&" - "&D10&" ("&E10&")" -> Hasil penelitian yang dipublikasikan dalam bentuk jurnal - Jurnal Internasional Bereputasi Q4 (33) | G10: 33 | J10: Penulis Korespondensi | K10: 0.5 | L10: 1
B11: Hasil penelitian yang dipublikasikan dalam bentuk jurnal | C11: =SUBSTITUTE(B11, " ", "_") -> Hasil_penelitian_yang_dipublikasikan_dalam_bentuk_jurnal | D11: Jurnal internasional terindeks pada basis data internasional | E11: 30 | F11: =B11&" - "&D11&" ("&E11&")" -> Hasil penelitian yang dipublikasikan dalam bentuk jurnal - Jurnal internasional terindeks pada basis data internasional (30) | G11: 30 | J11: Penulis Anggota (Penulis Pertama juga sebagai Korespondensi) | K11: =40% -> 0.4 | L11: 2
B12: Hasil penelitian yang dipublikasikan dalam bentuk jurnal | C12: =SUBSTITUTE(B12, " ", "_") -> Hasil_penelitian_yang_dipublikasikan_dalam_bentuk_jurnal | D12: Jurnal Nasional terakreditasi Kemdiktisaintek Sinta 1 atau 2 | E12: 25 | F12: =B12&" - "&D12&" ("&E12&")" -> Hasil penelitian yang dipublikasikan dalam bentuk jurnal - Jurnal Nasional terakreditasi Kemdiktisaintek Sinta 1 atau 2 (25) | G12: 25 | J12: Penulis Pertama juga sebagai Korespondensi | K12: 0.6 | L12: 1
B13: Hasil penelitian yang dipublikasikan dalam bentuk jurnal | C13: =SUBSTITUTE(B13, " ", "_") -> Hasil_penelitian_yang_dipublikasikan_dalam_bentuk_jurnal | D13: Jurnal Nasional terakreditasi Kemdiktisaintek Sinta 3 atau 4 | E13: 20 | F13: =B13&" - "&D13&" ("&E13&")" -> Hasil penelitian yang dipublikasikan dalam bentuk jurnal - Jurnal Nasional terakreditasi Kemdiktisaintek Sinta 3 atau 4 (20) | G13: 20
B14: Hasil penelitian yang dipublikasikan dalam bentuk jurnal | C14: =SUBSTITUTE(B14, " ", "_") -> Hasil_penelitian_yang_dipublikasikan_dalam_bentuk_jurnal | D14: Jurnal Nasional terakreditasi Kemdiktisaintek Sinta 5 atau 6 | E14: 15 | F14: =B14&" - "&D14&" ("&E14&")" -> Hasil penelitian yang dipublikasikan dalam bentuk jurnal - Jurnal Nasional terakreditasi Kemdiktisaintek Sinta 5 atau 6 (15) | G14: 15
B15: Hasil penelitian yang dipublikasikan dalam bentuk jurnal | C15: =SUBSTITUTE(B15, " ", "_") -> Hasil_penelitian_yang_dipublikasikan_dalam_bentuk_jurnal | D15: Jurnal Nasional yang tidak terakreditasi | E15: 10 | F15: =B15&" - "&D15&" ("&E15&")" -> Hasil penelitian yang dipublikasikan dalam bentuk jurnal - Jurnal Nasional yang tidak terakreditasi (10) | G15: 10
B16: Hasil penelitian yang didiseminasikan Dipresentasikan dan dimuat dalam prosiding yang dipublikasikan ber ISSN atau ISBN | C16: =SUBSTITUTE(B16, " ", "_") -> Hasil_penelitian_yang_didiseminasikan_Dipresentasikan_dan_dimuat_dalam_prosiding_yang_dipublikasikan_ber_ISSN_atau_ISBN | D16: Internasional terindeks dengan Quartile tertentu, SJR atau IF | E16: 20 | F16: =B16&" - "&D16&" ("&E16&")" -> Hasil penelitian yang didiseminasikan Dipresentasikan dan dimuat dalam prosiding yang dipublikasikan ber ISSN atau ISBN - Internasional terindeks dengan Quartile tertentu, SJR atau IF (20) | G16: 20
B17: Hasil penelitian yang didiseminasikan Dipresentasikan dan dimuat dalam prosiding yang dipublikasikan ber ISSN atau ISBN | C17: =SUBSTITUTE(B17, " ", "_") -> Hasil_penelitian_yang_didiseminasikan_Dipresentasikan_dan_dimuat_dalam_prosiding_yang_dipublikasikan_ber_ISSN_atau_ISBN | D17: Internasional dan tidak terindeks | E17: 10 | F17: =B17&" - "&D17&" ("&E17&")" -> Hasil penelitian yang didiseminasikan Dipresentasikan dan dimuat dalam prosiding yang dipublikasikan ber ISSN atau ISBN - Internasional dan tidak terindeks (10) | G17: 10
B18: Hasil penelitian yang didiseminasikan Dipresentasikan dan dimuat dalam prosiding yang dipublikasikan ber ISSN atau ISBN | C18: =SUBSTITUTE(B18, " ", "_") -> Hasil_penelitian_yang_didiseminasikan_Dipresentasikan_dan_dimuat_dalam_prosiding_yang_dipublikasikan_ber_ISSN_atau_ISBN | D18: Nasional ber ISSN atau ISBN | E18: 7.5 | F18: =B18&" - "&D18&" ("&E18&")" -> Hasil penelitian yang didiseminasikan Dipresentasikan dan dimuat dalam prosiding yang dipublikasikan ber ISSN atau ISBN - Nasional ber ISSN atau ISBN (7,5) | G18: 7.5
B19: Disajikan dalam seminar atau simposium atau lokakarya atau orasi ilmiah tetapi tidak dimuat dalam prosiding | C19: =SUBSTITUTE(B19, " ", "_") -> Disajikan_dalam_seminar_atau_simposium_atau_lokakarya_atau_orasi_ilmiah_tetapi_tidak_dimuat_dalam_prosiding | D19: Internasional | E19: 5 | F19: =B19&" - "&D19&" ("&E19&")" -> Disajikan dalam seminar atau simposium atau lokakarya atau orasi ilmiah tetapi tidak dimuat dalam prosiding - Internasional (5) | G19: 5
B20: Disajikan dalam seminar atau simposium atau lokakarya atau orasi ilmiah tetapi tidak dimuat dalam prosiding | C20: =SUBSTITUTE(B20, " ", "_") -> Disajikan_dalam_seminar_atau_simposium_atau_lokakarya_atau_orasi_ilmiah_tetapi_tidak_dimuat_dalam_prosiding | D20: Nasional | E20: 3 | F20: =B20&" - "&D20&" ("&E20&")" -> Disajikan dalam seminar atau simposium atau lokakarya atau orasi ilmiah tetapi tidak dimuat dalam prosiding - Nasional (3) | G20: 3
B21: Hasil penelitian yang disajikan dalam koran atau majalah populer | C21: =SUBSTITUTE(B21, " ", "_") -> Hasil_penelitian_yang_disajikan_dalam_koran_atau_majalah_populer | D21: Hasil penelitian yang disajikan dalam koran atau majalah populer | E21: 2 | F21: =B21&" - "&D21&" ("&E21&")" -> Hasil penelitian yang disajikan dalam koran atau majalah populer - Hasil penelitian yang disajikan dalam koran atau majalah populer (2) | G21: 2
B22: Hasil penelitian atau kerjasama industri yang tidak dipublikasikan | C22: =SUBSTITUTE(B22, " ", "_") -> Hasil_penelitian_atau_kerjasama_industri_yang_tidak_dipublikasikan | D22: Hasil penelitian atau kerjasama industri yang tidak dipublikasikan | E22: 2 | F22: =B22&" - "&D22&" ("&E22&")" -> Hasil penelitian atau kerjasama industri yang tidak dipublikasikan - Hasil penelitian atau kerjasama industri yang tidak dipublikasikan (2) | G22: 2
B23: Menerjemahkan atau menyadur buku ilmiah yang diterbitkan ber ISBN | C23: =SUBSTITUTE(B23, " ", "_") -> Menerjemahkan_atau_menyadur_buku_ilmiah_yang_diterbitkan_ber_ISBN | D23: Menerjemahkan atau menyadur buku ilmiah yang diterbitkan ber ISBN | E23: 15 | F23: =B23&" - "&D23&" ("&E23&")" -> Menerjemahkan atau menyadur buku ilmiah yang diterbitkan ber ISBN - Menerjemahkan atau menyadur buku ilmiah yang diterbitkan ber ISBN (15) | G23: 15
B24: Mengedit atau menyunting karya ilmiah dalam bentuk buku yang diterbitkan ber ISBN | C24: =SUBSTITUTE(B24, " ", "_") -> Mengedit_atau_menyunting_karya_ilmiah_dalam_bentuk_buku_yang_diterbitkan_ber_ISBN | D24: Mengedit atau menyunting karya ilmiah dalam bentuk buku yang diterbitkan ber ISBN | E24: 10 | F24: =B24&" - "&D24&" ("&E24&")" -> Mengedit atau menyunting karya ilmiah dalam bentuk buku yang diterbitkan ber ISBN - Mengedit atau menyunting karya ilmiah dalam bentuk buku yang diterbitkan ber ISBN (10) | G24: 10
... B38: Membuat rancangan dan karya teknologi yang tidak dipatenkan atau rancangan dan karya seni monumental yang tidak terdaftar di HKI tetapi telah dipresentasikan pada forum yang teragenda | C38: =SUBSTITUTE(B38, " ", "_") -> Membuat_rancangan_dan_karya_teknologi_yang_tidak_dipatenkan_atau_rancangan_dan_karya_seni_monumental_yang_tidak_terdaftar_di_HKI_tetapi_telah_dipresentasikan_pada_forum_yang_teragenda | D38: Tingkat Lokal | E38: 10 | F38: =B38&" - "&D38&" ("&E38&")" -> Membuat rancangan dan karya teknologi yang tidak dipatenkan atau rancangan dan karya seni monumental yang tidak terdaftar di HKI tetapi telah dipresentasikan pada forum yang teragenda - Tingkat Lokal (10) | G38: 10
